BEGIN:VCALENDAR
VERSION:2.0
PRODID:-//Kinderfreunde Renningen - ECPv6.15.20//NONSGML v1.0//EN
CALSCALE:GREGORIAN
METHOD:PUBLISH
X-WR-CALNAME:Kinderfreunde Renningen
X-ORIGINAL-URL:https://kinderfreunderenningen.de
X-WR-CALDESC:Veranstaltungen für Kinderfreunde Renningen
REFRESH-INTERVAL;VALUE=DURATION:PT1H
X-Robots-Tag:noindex
X-PUBLISHED-TTL:PT1H
BEGIN:VTIMEZONE
TZID:Europe/Berlin
BEGIN:DAYLIGHT
TZOFFSETFROM:+0100
TZOFFSETTO:+0200
TZNAME:CEST
DTSTART:20190331T010000
END:DAYLIGHT
BEGIN:STANDARD
TZOFFSETFROM:+0200
TZOFFSETTO:+0100
TZNAME:CET
DTSTART:20191027T010000
END:STANDARD
BEGIN:DAYLIGHT
TZOFFSETFROM:+0100
TZOFFSETTO:+0200
TZNAME:CEST
DTSTART:20200329T010000
END:DAYLIGHT
BEGIN:STANDARD
TZOFFSETFROM:+0200
TZOFFSETTO:+0100
TZNAME:CET
DTSTART:20201025T010000
END:STANDARD
BEGIN:DAYLIGHT
TZOFFSETFROM:+0100
TZOFFSETTO:+0200
TZNAME:CEST
DTSTART:20210328T010000
END:DAYLIGHT
BEGIN:STANDARD
TZOFFSETFROM:+0200
TZOFFSETTO:+0100
TZNAME:CET
DTSTART:20211031T010000
END:STANDARD
END:VTIMEZONE
BEGIN:VEVENT
DTSTART;TZID=Europe/Berlin:20200618T093000
DTEND;TZID=Europe/Berlin:20200618T110000
DTSTAMP:20260421T161653
CREATED:20200203T201146Z
LAST-MODIFIED:20200203T201146Z
UID:1392-1592472600-1592478000@kinderfreunderenningen.de
SUMMARY:Offener Stilltreff - Thema "Geburt und Stillstart - gut vorbereitet sein"
DESCRIPTION:Eingeladen sind: Schwangere\, Stillende\, Stillkinder jedes Alters\, Geschwisterkinder\, Väter\, Großeltern und alle am Stillen Interessierte\nWir tauschen uns über unsere Erfahrungen und Probleme mit dem Stillen und dem Leben mit einem Stillkind aus. \nWir treffen uns meistens jeden 1. Donnerstag im Monat; 9.30 – 11.00 Uhr in der Begegnungsstätte in Malmsheim\, Merklingerstrasse 10a. \nStillberaterin Andrea Kästner; Tel. 9485680
URL:https://kinderfreunderenningen.de/termin/offener-stilltreff-thema-geburt-und-stillstart-gut-vorbereitet-sein/
LOCATION:Begegnungsstätte Malmsheim\, Merklinger Straße 10a\, Renningen\, Baden-Württemberg\, 71272\, Deutschland
CATEGORIES:Stilltreff
END:VEVENT
BEGIN:VEVENT
DTSTART;TZID=Europe/Berlin:20200620T140000
DTEND;TZID=Europe/Berlin:20200620T170000
DTSTAMP:20260421T161653
CREATED:20200217T194826Z
LAST-MODIFIED:20200217T195017Z
UID:1424-1592661600-1592672400@kinderfreunderenningen.de
SUMMARY:Kinderfest
DESCRIPTION:Mit dem jährlich stattfindenden Kinderfest wollen wir Kindern im Alter von ca. 3 bis 10 Jahren eine Freude machen. \nJedes Fest hat ein bestimmtes Thema\, zu dem es Angebote zum Spielen\, Basteln und Toben gibt. Kommen Sie mit Ihren Kindern vorbei – es lohnt sich!
URL:https://kinderfreunderenningen.de/termin/kinderfest/
LOCATION:Am Jugendhaus Renningen\, Humboldtstraße 8\, Renningen\, 71272\, Deutschland
END:VEVENT
END:VCALENDAR