BEGIN:VCALENDAR
VERSION:2.0
PRODID:-//Kinderfreunde Renningen - ECPv6.15.20//NONSGML v1.0//EN
CALSCALE:GREGORIAN
METHOD:PUBLISH
X-WR-CALNAME:Kinderfreunde Renningen
X-ORIGINAL-URL:https://kinderfreunderenningen.de
X-WR-CALDESC:Veranstaltungen für Kinderfreunde Renningen
REFRESH-INTERVAL;VALUE=DURATION:PT1H
X-Robots-Tag:noindex
X-PUBLISHED-TTL:PT1H
BEGIN:VTIMEZONE
TZID:Europe/Berlin
BEGIN:DAYLIGHT
TZOFFSETFROM:+0100
TZOFFSETTO:+0200
TZNAME:CEST
DTSTART:20190331T010000
END:DAYLIGHT
BEGIN:STANDARD
TZOFFSETFROM:+0200
TZOFFSETTO:+0100
TZNAME:CET
DTSTART:20191027T010000
END:STANDARD
BEGIN:DAYLIGHT
TZOFFSETFROM:+0100
TZOFFSETTO:+0200
TZNAME:CEST
DTSTART:20200329T010000
END:DAYLIGHT
BEGIN:STANDARD
TZOFFSETFROM:+0200
TZOFFSETTO:+0100
TZNAME:CET
DTSTART:20201025T010000
END:STANDARD
BEGIN:DAYLIGHT
TZOFFSETFROM:+0100
TZOFFSETTO:+0200
TZNAME:CEST
DTSTART:20210328T010000
END:DAYLIGHT
BEGIN:STANDARD
TZOFFSETFROM:+0200
TZOFFSETTO:+0100
TZNAME:CET
DTSTART:20211031T010000
END:STANDARD
END:VTIMEZONE
BEGIN:VEVENT
DTSTART;TZID=Europe/Berlin:20200305T093000
DTEND;TZID=Europe/Berlin:20200305T110000
DTSTAMP:20260425T131558
CREATED:20200203T195859Z
LAST-MODIFIED:20200203T201209Z
UID:1380-1583400600-1583406000@kinderfreunderenningen.de
SUMMARY:Offener Stilltreff - Thema "Stille(nde) Nacht?"
DESCRIPTION:Eingeladen sind: Schwangere\, Stillende\, Stillkinder jedes Alters\, Geschwisterkinder\, Väter\, Großeltern und alle am Stillen Interessierte \nWir tauschen uns über unsere Erfahrungen und Probleme mit dem Stillen und dem Leben mit einem Stillkind aus. \nWir treffen uns meistens jeden 1. Donnerstag im Monat; 9.30 – 11.00 Uhr in der Begegnungsstätte in Malmsheim\, Merklingerstrasse 10a. \nStillberaterin Andrea Kästner; Tel. 9485680
URL:https://kinderfreunderenningen.de/termin/offener-stilltreff-thema-stillende-nacht/
LOCATION:Begegnungsstätte Malmsheim\, Merklinger Straße 10a\, Renningen\, Baden-Württemberg\, 71272\, Deutschland
CATEGORIES:Stilltreff
END:VEVENT
BEGIN:VEVENT
DTSTART;TZID=Europe/Berlin:20200310T193000
DTEND;TZID=Europe/Berlin:20200310T213000
DTSTAMP:20260425T131558
CREATED:20200203T195042Z
LAST-MODIFIED:20200203T200304Z
UID:1375-1583868600-1583875800@kinderfreunderenningen.de
SUMMARY:Mitgliederstammtisch
DESCRIPTION:Wir brauchen Unterstützung\, um unsere bisherigen Ziele zu verwirklichen und neue Ideen aufzugreifen. Gerne würden wir auch Arbeitsgruppen zu bisherigen und neuen Themen bilden: Leih-Omas\, Ferienprogramm\, Kinderfest\, Veranstaltungen\, Fortbildungen für Eltern…. Sie haben weitere Ideen? Unser Stammtisch ist für jeden offen – schauen Sie einfach mal vorbei und lernen Sie uns kennen. \nVoraussichtliche Themen: \n\nRückblick Kinder-Theater\nKleiderbörse\nNeugestaltung der Homepage\nKinderfest 2020\n\nDie Termine sind auch in den Stadtnachrichten Renningen veröffentlicht\, kurzfristige Änderungen sind in Einzelfällen möglich. Eingeladen sind hier alle aktiven Mitglieder\, solche die es werden wollen und Interessierte\, die einfach nur mal reinschauen wollen.
URL:https://kinderfreunderenningen.de/termin/mitgliederstammtisch-3/
LOCATION:Sportpark Restaurant Lutz\, Am Sportpark\, Renningen\, 71272
CATEGORIES:Mitgliederstammtisch
END:VEVENT
BEGIN:VEVENT
DTSTART;TZID=Europe/Berlin:20200321T130000
DTEND;TZID=Europe/Berlin:20200321T160000
DTSTAMP:20260425T131558
CREATED:20200217T194306Z
LAST-MODIFIED:20200217T194306Z
UID:1420-1584795600-1584806400@kinderfreunderenningen.de
SUMMARY:Kinderkleider- und Spielzeugbörse
DESCRIPTION:
URL:https://kinderfreunderenningen.de/termin/kinderkleider-und-spielzeugboerse-2/
LOCATION:Rankbachhalle Renningen\, Rankbachstraße 51\, 71272 Renningen\, Renningen\, 71272
END:VEVENT
END:VCALENDAR