BEGIN:VCALENDAR
VERSION:2.0
PRODID:-//Kinderfreunde Renningen - ECPv6.15.20//NONSGML v1.0//EN
CALSCALE:GREGORIAN
METHOD:PUBLISH
X-WR-CALNAME:Kinderfreunde Renningen
X-ORIGINAL-URL:https://kinderfreunderenningen.de
X-WR-CALDESC:Veranstaltungen für Kinderfreunde Renningen
REFRESH-INTERVAL;VALUE=DURATION:PT1H
X-Robots-Tag:noindex
X-PUBLISHED-TTL:PT1H
BEGIN:VTIMEZONE
TZID:Europe/Berlin
BEGIN:DAYLIGHT
TZOFFSETFROM:+0100
TZOFFSETTO:+0200
TZNAME:CEST
DTSTART:20190331T010000
END:DAYLIGHT
BEGIN:STANDARD
TZOFFSETFROM:+0200
TZOFFSETTO:+0100
TZNAME:CET
DTSTART:20191027T010000
END:STANDARD
BEGIN:DAYLIGHT
TZOFFSETFROM:+0100
TZOFFSETTO:+0200
TZNAME:CEST
DTSTART:20200329T010000
END:DAYLIGHT
BEGIN:STANDARD
TZOFFSETFROM:+0200
TZOFFSETTO:+0100
TZNAME:CET
DTSTART:20201025T010000
END:STANDARD
BEGIN:DAYLIGHT
TZOFFSETFROM:+0100
TZOFFSETTO:+0200
TZNAME:CEST
DTSTART:20210328T010000
END:DAYLIGHT
BEGIN:STANDARD
TZOFFSETFROM:+0200
TZOFFSETTO:+0100
TZNAME:CET
DTSTART:20211031T010000
END:STANDARD
END:VTIMEZONE
BEGIN:VEVENT
DTSTART;TZID=Europe/Berlin:20200109T093000
DTEND;TZID=Europe/Berlin:20200109T110000
DTSTAMP:20260425T171153
CREATED:20191117T154822Z
LAST-MODIFIED:20191117T154822Z
UID:1053-1578562200-1578567600@kinderfreunderenningen.de
SUMMARY:Die bunte Welt der Beikost
DESCRIPTION:
URL:https://kinderfreunderenningen.de/termin/die-bunte-welt-der-beikost/
LOCATION:Begegnungsstätte Malmsheim\, Merklinger Straße 10a\, Renningen\, Baden-Württemberg\, 71272\, Deutschland
CATEGORIES:Stilltreff
END:VEVENT
BEGIN:VEVENT
DTSTART;TZID=Europe/Berlin:20200116T193000
DTEND;TZID=Europe/Berlin:20200116T213000
DTSTAMP:20260425T171153
CREATED:20191212T192303Z
LAST-MODIFIED:20191212T192303Z
UID:1142-1579203000-1579210200@kinderfreunderenningen.de
SUMMARY:Mitgliederstammtisch
DESCRIPTION:Zu unserem nächsten Mitgliederstammtisch laden wir alle Mitglieder und Interessierte herzlich ein!
URL:https://kinderfreunderenningen.de/termin/mitgliederstammtisch/
LOCATION:Sportpark Restaurant Lutz\, Am Sportpark\, Renningen\, 71272
CATEGORIES:Mitgliederstammtisch
END:VEVENT
END:VCALENDAR