BEGIN:VCALENDAR
VERSION:2.0
PRODID:-//Kinderfreunde Renningen - ECPv6.15.20//NONSGML v1.0//EN
CALSCALE:GREGORIAN
METHOD:PUBLISH
X-WR-CALNAME:Kinderfreunde Renningen
X-ORIGINAL-URL:https://kinderfreunderenningen.de
X-WR-CALDESC:Veranstaltungen für Kinderfreunde Renningen
REFRESH-INTERVAL;VALUE=DURATION:PT1H
X-Robots-Tag:noindex
X-PUBLISHED-TTL:PT1H
BEGIN:VTIMEZONE
TZID:Europe/Berlin
BEGIN:DAYLIGHT
TZOFFSETFROM:+0100
TZOFFSETTO:+0200
TZNAME:CEST
DTSTART:20250330T010000
END:DAYLIGHT
BEGIN:STANDARD
TZOFFSETFROM:+0200
TZOFFSETTO:+0100
TZNAME:CET
DTSTART:20251026T010000
END:STANDARD
BEGIN:DAYLIGHT
TZOFFSETFROM:+0100
TZOFFSETTO:+0200
TZNAME:CEST
DTSTART:20260329T010000
END:DAYLIGHT
BEGIN:STANDARD
TZOFFSETFROM:+0200
TZOFFSETTO:+0100
TZNAME:CET
DTSTART:20261025T010000
END:STANDARD
BEGIN:DAYLIGHT
TZOFFSETFROM:+0100
TZOFFSETTO:+0200
TZNAME:CEST
DTSTART:20270328T010000
END:DAYLIGHT
BEGIN:STANDARD
TZOFFSETFROM:+0200
TZOFFSETTO:+0100
TZNAME:CET
DTSTART:20271031T010000
END:STANDARD
END:VTIMEZONE
BEGIN:VEVENT
DTSTART;TZID=Europe/Berlin:20260424T150000
DTEND;TZID=Europe/Berlin:20260424T170000
DTSTAMP:20260424T033535
CREATED:20260104T070754Z
LAST-MODIFIED:20260207T100941Z
UID:4303-1777042800-1777050000@kinderfreunderenningen.de
SUMMARY:Spielenachmittag Mediathek
DESCRIPTION:In Kooperation mit der Mediathek bieten wir im dortigen Veranstaltungsraum einen Spielenachmittag an. Alle Altersgruppen sind willkommen. Bitte beachtet\, dass wir keine Aufsichtspflicht übernehmen.\nWir freuen uns auf euren Besuch!
URL:https://kinderfreunderenningen.de/termin/spielenachmittag-11/
LOCATION:Mediathek Renningen\, Jahnstr. 11\, Renningen
ATTACH;FMTTYPE=image/jpeg:https://kinderfreunderenningen.de/wp-content/uploads/2025/06/Spielenachmittag_Juni2025.jpg
END:VEVENT
END:VCALENDAR