BEGIN:VCALENDAR
VERSION:2.0
PRODID:-//Kinderfreunde Renningen - ECPv6.15.20//NONSGML v1.0//EN
CALSCALE:GREGORIAN
METHOD:PUBLISH
X-WR-CALNAME:Kinderfreunde Renningen
X-ORIGINAL-URL:https://kinderfreunderenningen.de
X-WR-CALDESC:Veranstaltungen für Kinderfreunde Renningen
REFRESH-INTERVAL;VALUE=DURATION:PT1H
X-Robots-Tag:noindex
X-PUBLISHED-TTL:PT1H
BEGIN:VTIMEZONE
TZID:Europe/Berlin
BEGIN:DAYLIGHT
TZOFFSETFROM:+0100
TZOFFSETTO:+0200
TZNAME:CEST
DTSTART:20250330T010000
END:DAYLIGHT
BEGIN:STANDARD
TZOFFSETFROM:+0200
TZOFFSETTO:+0100
TZNAME:CET
DTSTART:20251026T010000
END:STANDARD
BEGIN:DAYLIGHT
TZOFFSETFROM:+0100
TZOFFSETTO:+0200
TZNAME:CEST
DTSTART:20260329T010000
END:DAYLIGHT
BEGIN:STANDARD
TZOFFSETFROM:+0200
TZOFFSETTO:+0100
TZNAME:CET
DTSTART:20261025T010000
END:STANDARD
BEGIN:DAYLIGHT
TZOFFSETFROM:+0100
TZOFFSETTO:+0200
TZNAME:CEST
DTSTART:20270328T010000
END:DAYLIGHT
BEGIN:STANDARD
TZOFFSETFROM:+0200
TZOFFSETTO:+0100
TZNAME:CET
DTSTART:20271031T010000
END:STANDARD
END:VTIMEZONE
BEGIN:VEVENT
DTSTART;TZID=Europe/Berlin:20260421T190000
DTEND;TZID=Europe/Berlin:20260421T220000
DTSTAMP:20260421T141941
CREATED:20251127T083845Z
LAST-MODIFIED:20251127T083845Z
UID:4236-1776798000-1776808800@kinderfreunderenningen.de
SUMMARY:Näh- & Kreativ- Treff
DESCRIPTION:Beim Nähtreff und Kreativtreff bringen wir unsere Projekte mit oder arbeiten gemeinsam an einem Projekt. Für Mitglieder ist die Teilnahme kostenlos\, Nichtmitglieder 1€. Wir haben Nähmaschinen vor Ort\, welche gerne getestet werden können. Auch mit Materialien helfen wir uns gegenseitig aus. \nBitte anmelden bei Marina naehen@kinderfreunderenningen.de oder Nicole info@kinderfreunderenningen.de
URL:https://kinderfreunderenningen.de/termin/naeh-kreativ-treff-4/
LOCATION:Mehrzweckraum der Kinderkrippe Schnallenäcker\, Nelkenstraße 58 in Malmsheim\, Nelkenstraße 58\, Malmsheim\, Germany
ATTACH;FMTTYPE=image/png:https://kinderfreunderenningen.de/wp-content/uploads/2025/03/Bildschirmfoto-2025-03-21-um-12.44.47.png
END:VEVENT
END:VCALENDAR