BEGIN:VCALENDAR
VERSION:2.0
PRODID:-//Kinderfreunde Renningen - ECPv6.15.20//NONSGML v1.0//EN
CALSCALE:GREGORIAN
METHOD:PUBLISH
X-WR-CALNAME:Kinderfreunde Renningen
X-ORIGINAL-URL:https://kinderfreunderenningen.de
X-WR-CALDESC:Veranstaltungen für Kinderfreunde Renningen
REFRESH-INTERVAL;VALUE=DURATION:PT1H
X-Robots-Tag:noindex
X-PUBLISHED-TTL:PT1H
BEGIN:VTIMEZONE
TZID:Europe/Berlin
BEGIN:DAYLIGHT
TZOFFSETFROM:+0100
TZOFFSETTO:+0200
TZNAME:CEST
DTSTART:20190331T010000
END:DAYLIGHT
BEGIN:STANDARD
TZOFFSETFROM:+0200
TZOFFSETTO:+0100
TZNAME:CET
DTSTART:20191027T010000
END:STANDARD
BEGIN:DAYLIGHT
TZOFFSETFROM:+0100
TZOFFSETTO:+0200
TZNAME:CEST
DTSTART:20200329T010000
END:DAYLIGHT
BEGIN:STANDARD
TZOFFSETFROM:+0200
TZOFFSETTO:+0100
TZNAME:CET
DTSTART:20201025T010000
END:STANDARD
BEGIN:DAYLIGHT
TZOFFSETFROM:+0100
TZOFFSETTO:+0200
TZNAME:CEST
DTSTART:20210328T010000
END:DAYLIGHT
BEGIN:STANDARD
TZOFFSETFROM:+0200
TZOFFSETTO:+0100
TZNAME:CET
DTSTART:20211031T010000
END:STANDARD
END:VTIMEZONE
BEGIN:VEVENT
DTSTART;TZID=Europe/Berlin:20200321T130000
DTEND;TZID=Europe/Berlin:20200321T160000
DTSTAMP:20260422T164819
CREATED:20200217T194306Z
LAST-MODIFIED:20200217T194306Z
UID:1420-1584795600-1584806400@kinderfreunderenningen.de
SUMMARY:Kinderkleider- und Spielzeugbörse
DESCRIPTION:
URL:https://kinderfreunderenningen.de/termin/kinderkleider-und-spielzeugboerse-2/
LOCATION:Rankbachhalle Renningen\, Rankbachstraße 51\, 71272 Renningen\, Renningen\, 71272
END:VEVENT
END:VCALENDAR